



BEGIN:VCALENDAR
VERSION:2.0
PRODID:-//Henry County Tourism Bureau - ECPv6.15.18//NONSGML v1.0//EN
CALSCALE:GREGORIAN
METHOD:PUBLISH
X-WR-CALNAME:Henry County Tourism Bureau
X-ORIGINAL-URL:https://explorehenrycounty.com
X-WR-CALDESC:Events for Henry County Tourism Bureau
REFRESH-INTERVAL;VALUE=DURATION:PT1H
X-Robots-Tag:noindex
X-PUBLISHED-TTL:PT1H
BEGIN:VTIMEZONE
TZID:America/New_York
BEGIN:DAYLIGHT
TZOFFSETFROM:-0500
TZOFFSETTO:-0400
TZNAME:EDT
DTSTART:20230312T070000
END:DAYLIGHT
BEGIN:STANDARD
TZOFFSETFROM:-0400
TZOFFSETTO:-0500
TZNAME:EST
DTSTART:20231105T060000
END:STANDARD
BEGIN:DAYLIGHT
TZOFFSETFROM:-0500
TZOFFSETTO:-0400
TZNAME:EDT
DTSTART:20240310T070000
END:DAYLIGHT
BEGIN:STANDARD
TZOFFSETFROM:-0400
TZOFFSETTO:-0500
TZNAME:EST
DTSTART:20241103T060000
END:STANDARD
BEGIN:DAYLIGHT
TZOFFSETFROM:-0500
TZOFFSETTO:-0400
TZNAME:EDT
DTSTART:20250309T070000
END:DAYLIGHT
BEGIN:STANDARD
TZOFFSETFROM:-0400
TZOFFSETTO:-0500
TZNAME:EST
DTSTART:20251102T060000
END:STANDARD
END:VTIMEZONE
BEGIN:VEVENT
DTSTART;TZID=America/New_York:20241110T140000
DTEND;TZID=America/New_York:20241110T150000
DTSTAMP:20260419T143115
CREATED:20241020T222935Z
LAST-MODIFIED:20241020T222935Z
UID:2684-1731247200-1731250800@explorehenrycounty.com
SUMMARY:Freddy's 2 & 4 Swing Trio
DESCRIPTION:The trio has a passion for the Great American Songbook and early jazz. Freddy Allen on piano\, Neal Smith on Sax and Gino Ciccotelli on drums. Free with donation for the Geneseo-Atkinson Food Pantry. \n  \nFirst Congregational Church United Church of Christ \n319 S. State St. \nGeneseo\, IL 61254
URL:https://explorehenrycounty.com/event/freddys-2-4-swing-trio/
LOCATION:Geneseo
CATEGORIES:Events
END:VEVENT
END:VCALENDAR